BEGIN:VCALENDAR
VERSION:2.0
PRODID:-//Portal informacyjny Nowogard - MojeInfo24.pl - ECPv6.15.20//NONSGML v1.0//EN
CALSCALE:GREGORIAN
METHOD:PUBLISH
X-WR-CALNAME:Portal informacyjny Nowogard - MojeInfo24.pl
X-ORIGINAL-URL:https://mojeinfo24.pl
X-WR-CALDESC:Wydarzenia dla Portal informacyjny Nowogard - MojeInfo24.pl
REFRESH-INTERVAL;VALUE=DURATION:PT1H
X-Robots-Tag:noindex
X-PUBLISHED-TTL:PT1H
BEGIN:VTIMEZONE
TZID:Europe/Warsaw
BEGIN:DAYLIGHT
TZOFFSETFROM:+0100
TZOFFSETTO:+0200
TZNAME:CEST
DTSTART:20250330T010000
END:DAYLIGHT
BEGIN:STANDARD
TZOFFSETFROM:+0200
TZOFFSETTO:+0100
TZNAME:CET
DTSTART:20251026T010000
END:STANDARD
BEGIN:DAYLIGHT
TZOFFSETFROM:+0100
TZOFFSETTO:+0200
TZNAME:CEST
DTSTART:20260329T010000
END:DAYLIGHT
BEGIN:STANDARD
TZOFFSETFROM:+0200
TZOFFSETTO:+0100
TZNAME:CET
DTSTART:20261025T010000
END:STANDARD
BEGIN:DAYLIGHT
TZOFFSETFROM:+0100
TZOFFSETTO:+0200
TZNAME:CEST
DTSTART:20270328T010000
END:DAYLIGHT
BEGIN:STANDARD
TZOFFSETFROM:+0200
TZOFFSETTO:+0100
TZNAME:CET
DTSTART:20271031T010000
END:STANDARD
END:VTIMEZONE
BEGIN:VEVENT
DTSTART;TZID=Europe/Warsaw:20260328T100000
DTEND;TZID=Europe/Warsaw:20260328T160000
DTSTAMP:20260422T104642
CREATED:20260305T162353Z
LAST-MODIFIED:20260305T162813Z
UID:1235-1774692000-1774713600@mojeinfo24.pl
SUMMARY:Gminny Jarmark Wielkanocny
DESCRIPTION:
URL:https://mojeinfo24.pl/event/gminny-jarmark-wielkanocny/
LOCATION:Plac Wolności\, Plac Wolności 1\, Nowogard\, 72-200\, Poland
ATTACH;FMTTYPE=image/jpeg:https://mojeinfo24.pl/wp-content/uploads/2026/03/jarmark-wielkanocny-2026.jpg
END:VEVENT
END:VCALENDAR